BEGIN:VCALENDAR
VERSION:2.0
PRODID:-//Right Response - ECPv3.9.1//NONSGML v1.0//EN
CALSCALE:GREGORIAN
METHOD:PUBLISH
X-WR-CALNAME:Right Response
X-ORIGINAL-URL:http://rightresponse.ie
X-WR-CALDESC:Events for Right Response
BEGIN:VEVENT
DTSTART;VALUE=DATE-TIME:20150306T093000
DTEND;VALUE=DATE-TIME:20150308T160000
DTSTAMP:20171030T073904
CREATED:20150205T134636
LAST-MODIFIED:20150205T134636
UID:677-1425634200-1425830400@http://rightresponse.ie
SUMMARY:Occupational First Aid Dublin March 2015
DESCRIPTION:3 Day course running on Friday\, Saturday and Sunday.    €240    FETAC certified
URL:http://rightresponse.ie/course-list/occupational-first-aid-dublin-march/
LOCATION:Louis Fitzgerald, Naas Rd, Dublin 22, Ireland
END:VEVENT
BEGIN:VEVENT
DTSTART;VALUE=DATE-TIME:20150307T020000
DTEND;VALUE=DATE-TIME:20150307T170000
DTSTAMP:20171030T073904
CREATED:20150217T191012
LAST-MODIFIED:20150217T191012
UID:691-1425693600-1425747600@http://rightresponse.ie
SUMMARY:Heartsaver CPR Dublin 07/03
DESCRIPTION:Irish Heart Foundation certified course in CPR and AED use. €70 – certificate valid for 2 years
URL:http://rightresponse.ie/course-list/heartsaver-cpr-dublin-0703/
LOCATION:Louis Fitzgerald, Naas Rd, Dublin 22, Ireland
CATEGORIES:Dublin,Hearsaver CPR/AED
END:VEVENT
BEGIN:VEVENT
DTSTART;VALUE=DATE-TIME:20150307T090000
DTEND;VALUE=DATE-TIME:20150307T163000
DTSTAMP:20171030T073904
CREATED:20150217T190815
LAST-MODIFIED:20150217T190815
UID:689-1425718800-1425745800@http://rightresponse.ie
SUMMARY:1 Day Occupational First Aid Refresher Dublin 07/03
DESCRIPTION:1 Day course required to maintain the validity of your Occupational First Aid certificate. €90 – certificates valid for 2 years.
URL:http://rightresponse.ie/course-list/1-day-occupational-first-aid-refresher-dublin-0703/
LOCATION:Louis Fitzgerald, Naas Rd, Dublin 22, Ireland
END:VEVENT
BEGIN:VEVENT
DTSTART;VALUE=DATE-TIME:20150307T093000
DTEND;VALUE=DATE-TIME:20150307T163000
DTSTAMP:20171030T073904
CREATED:20150217T190635
LAST-MODIFIED:20150217T190635
UID:687-1425720600-1425745800@http://rightresponse.ie
SUMMARY:Paediatric and Basic First Aid Dublin 07/03
DESCRIPTION:1 Day Paediatric First Aid &amp; Basic First Aid courses. Suitable for all types of work involving the care of children – Teacher/Childminder/Creche Worker/Montessori €90 Certificates valid for 2 years
URL:http://rightresponse.ie/course-list/paediatric-and-basic-first-aid-dublin-0703/
LOCATION:Louis Fitzgerald, Naas Rd, Dublin 22, Ireland
CATEGORIES:1 Day Family First Aid
END:VEVENT
END:VCALENDAR