BEGIN:VCALENDAR
VERSION:2.0
PRODID:-//Right Response - ECPv3.9.1//NONSGML v1.0//EN
CALSCALE:GREGORIAN
METHOD:PUBLISH
X-WR-CALNAME:Right Response
X-ORIGINAL-URL:http://rightresponse.ie
X-WR-CALDESC:Events for Right Response
BEGIN:VEVENT
DTSTART;VALUE=DATE-TIME:20150313T093000
DTEND;VALUE=DATE-TIME:20150313T123000
DTSTAMP:20171030T073948
CREATED:20150304T143618
LAST-MODIFIED:20150304T144025
UID:702-1426239000-1426249800@http://rightresponse.ie
SUMMARY:Manual Handling Cork 13/03
DESCRIPTION:3hr Manual Handling course suitable for all industries except healthcare.  Certificates valid for 3 years.
URL:http://rightresponse.ie/course-list/manual-handling-cork-1303/
LOCATION:Ditchley House, Little Island, Cork, Ireland
END:VEVENT
END:VCALENDAR