BEGIN:VCALENDAR
VERSION:2.0
PRODID:-//Right Response - ECPv3.9.1//NONSGML v1.0//EN
CALSCALE:GREGORIAN
METHOD:PUBLISH
X-WR-CALNAME:Right Response
X-ORIGINAL-URL:http://rightresponse.ie
X-WR-CALDESC:Events for Right Response
BEGIN:VEVENT
DTSTART;VALUE=DATE-TIME:20150328T020000
DTEND;VALUE=DATE-TIME:20150328T170000
DTSTAMP:20171030T074031
CREATED:20150318T150802
LAST-MODIFIED:20150318T150802
UID:711-1427508000-1427562000@http://rightresponse.ie
SUMMARY:Heartsaver CPR Cork 28/03
DESCRIPTION:Irish Heart Foundation certified course in CPR and AED use. €70 – certificate valid for 2 years
URL:http://rightresponse.ie/course-list/heartsaver-cpr-cork-2803/
LOCATION:Ditchley House, Little Island, Cork, Ireland
END:VEVENT
BEGIN:VEVENT
DTSTART;VALUE=DATE-TIME:20150328T093000
DTEND;VALUE=DATE-TIME:20150328T163000
DTSTAMP:20171030T074031
CREATED:20150217T192135
LAST-MODIFIED:20150318T150309
UID:693-1427535000-1427560200@http://rightresponse.ie
SUMMARY:Paediatric and Basic First Aid Cork 28/03
DESCRIPTION:1 Day Paediatric First Aid &amp; Basic First Aid courses. Suitable for all types of work including that involving the care of children – Teacher/Childminder/Creche Worker/Montessori €90 Certificates valid for 2 years
URL:http://rightresponse.ie/course-list/paediatric-and-basic-first-aid-cork-2103/
LOCATION:Ditchley House, Little Island, Cork, Ireland
END:VEVENT
BEGIN:VEVENT
DTSTART;VALUE=DATE-TIME:20150328T093000
DTEND;VALUE=DATE-TIME:20150328T170000
DTSTAMP:20171030T074031
CREATED:20150217T192443
LAST-MODIFIED:20150318T150227
UID:695-1427535000-1427562000@http://rightresponse.ie
SUMMARY:1 Day Occupational First Aid Refresher Cork 28/03
DESCRIPTION:1 Day course required to maintain the validity of your Occupational First Aid certificate. €90 – certificates valid for 2 years.
URL:http://rightresponse.ie/course-list/1-day-occupational-first-aid-refresher-cork-2103/
LOCATION:Ditchley House, Little Island, Cork, Ireland
END:VEVENT
END:VCALENDAR