BEGIN:VCALENDAR
VERSION:2.0
PRODID:-//Right Response - ECPv3.9.1//NONSGML v1.0//EN
CALSCALE:GREGORIAN
METHOD:PUBLISH
X-WR-CALNAME:Right Response
X-ORIGINAL-URL:http://rightresponse.ie
X-WR-CALDESC:Events for Right Response
BEGIN:VEVENT
DTSTART;VALUE=DATE-TIME:20150411T020000
DTEND;VALUE=DATE-TIME:20150411T170000
DTSTAMP:20171030T073107
CREATED:20150318T151821
LAST-MODIFIED:20150318T151821
UID:718-1428717600-1428771600@http://rightresponse.ie
SUMMARY:Heartsaver CPR Dublin 11/04
DESCRIPTION:Irish Heart Foundation certified course in CPR and AED use. €70 – certificate valid for 2 years
URL:http://rightresponse.ie/course-list/heartsaver-cpr-dublin-1104/
LOCATION:Louis Fitzgerald, Naas Rd, Dublin 22, Ireland
CATEGORIES:Dublin,Hearsaver CPR/AED
END:VEVENT
BEGIN:VEVENT
DTSTART;VALUE=DATE-TIME:20150411T090000
DTEND;VALUE=DATE-TIME:20150411T163000
DTSTAMP:20171030T073107
CREATED:20150318T151511
LAST-MODIFIED:20150318T151639
UID:715-1428742800-1428769800@http://rightresponse.ie
SUMMARY:1 Day Occupational First Aid Refresher Dublin 11/04
DESCRIPTION:1 Day course required to maintain the validity of your Occupational First Aid certificate. €90 – certificates valid for 2 years.
URL:http://rightresponse.ie/course-list/1-day-occupational-first-aid-refresher-dublin-1104/
LOCATION:Louis Fitzgerald, Naas Rd, Dublin 22, Ireland
END:VEVENT
BEGIN:VEVENT
DTSTART;VALUE=DATE-TIME:20150411T093000
DTEND;VALUE=DATE-TIME:20150411T163000
DTSTAMP:20171030T073107
CREATED:20150318T151330
LAST-MODIFIED:20150318T151330
UID:713-1428744600-1428769800@http://rightresponse.ie
SUMMARY:Paediatric and Basic First Aid Dublin 11/04
DESCRIPTION:1 Day Paediatric First Aid &amp; Basic First Aid courses. Suitable for all types of work involving the care of children – Teacher/Childminder/Creche Worker/Montessori €90 Certificates valid for 2 years
URL:http://rightresponse.ie/course-list/paediatric-and-basic-first-aid-dublin-1104/
LOCATION:Louis Fitzgerald, Naas Rd, Dublin 22, Ireland
CATEGORIES:1 Day Family First Aid
END:VEVENT
END:VCALENDAR