BEGIN:VCALENDAR
VERSION:2.0
PRODID:-//Right Response - ECPv3.9.1//NONSGML v1.0//EN
CALSCALE:GREGORIAN
METHOD:PUBLISH
X-WR-CALNAME:Right Response
X-ORIGINAL-URL:http://rightresponse.ie
X-WR-CALDESC:Events for Right Response
BEGIN:VEVENT
DTSTART;VALUE=DATE-TIME:20150522T093000
DTEND;VALUE=DATE-TIME:20150522T123000
DTSTAMP:20171030T072600
CREATED:20150511T093913
LAST-MODIFIED:20150511T093913
UID:773-1432287000-1432297800@http://rightresponse.ie
SUMMARY:Manual Handling Cork 22/05
DESCRIPTION:3hr Manual Handling course suitable for all industries except healthcare.  Certificates valid for 3 years.
URL:http://rightresponse.ie/course-list/manual-handling-cork-2205/
LOCATION:Ditchley House, Little Island, Cork, Ireland
END:VEVENT
END:VCALENDAR