BEGIN:VCALENDAR
VERSION:2.0
PRODID:-//Right Response - ECPv3.9.1//NONSGML v1.0//EN
CALSCALE:GREGORIAN
METHOD:PUBLISH
X-WR-CALNAME:Right Response
X-ORIGINAL-URL:http://rightresponse.ie
X-WR-CALDESC:Events for Right Response
BEGIN:VEVENT
DTSTART;VALUE=DATE-TIME:20150523T020000
DTEND;VALUE=DATE-TIME:20150523T170000
DTSTAMP:20171030T072619
CREATED:20150428T175828
LAST-MODIFIED:20150428T175828
UID:757-1432346400-1432400400@http://rightresponse.ie
SUMMARY:Heartsaver CPR Cork 23/05
DESCRIPTION:Irish Heart Foundation certified course in CPR and AED use. €70 – certificate valid for 2 years
URL:http://rightresponse.ie/course-list/heartsaver-cpr-cork-2305/
LOCATION:Ditchley House, Little Island, Cork, Ireland
END:VEVENT
BEGIN:VEVENT
DTSTART;VALUE=DATE-TIME:20150523T093000
DTEND;VALUE=DATE-TIME:20150523T163000
DTSTAMP:20171030T072619
CREATED:20150428T180203
LAST-MODIFIED:20150428T180203
UID:758-1432373400-1432398600@http://rightresponse.ie
SUMMARY:Paediatric and Basic First Aid Cork 23/05
DESCRIPTION:1 Day Paediatric First Aid &amp; Basic First Aid courses. Suitable for all types of work including that involving the care of children – Teacher/Childminder/Creche Worker/Montessori €90 Certificates valid for 2 years
URL:http://rightresponse.ie/course-list/paediatric-and-basic-first-aid-cork-2305/
LOCATION:Ditchley House, Little Island, Cork, Ireland
END:VEVENT
BEGIN:VEVENT
DTSTART;VALUE=DATE-TIME:20150523T093000
DTEND;VALUE=DATE-TIME:20150523T170000
DTSTAMP:20171030T072619
CREATED:20150428T181215
LAST-MODIFIED:20150428T182011
UID:759-1432373400-1432400400@http://rightresponse.ie
SUMMARY:1 Day Occupational First Aid Refresher Cork 23/05
DESCRIPTION:1 Day course required to maintain the validity of your Occupational First Aid certificate. €90 – certificates valid for 2 years.
URL:http://rightresponse.ie/course-list/1-day-occupational-first-aid-refresher-cork-2305/
LOCATION:Ditchley House, Little Island, Cork, Ireland
END:VEVENT
END:VCALENDAR