BEGIN:VCALENDAR
VERSION:2.0
PRODID:-//Right Response - ECPv3.9.1//NONSGML v1.0//EN
CALSCALE:GREGORIAN
METHOD:PUBLISH
X-WR-CALNAME:Right Response
X-ORIGINAL-URL:http://rightresponse.ie
X-WR-CALDESC:Events for Right Response
BEGIN:VEVENT
DTSTART;VALUE=DATE-TIME:20150606T020000
DTEND;VALUE=DATE-TIME:20150606T170000
DTSTAMP:20171030T072020
CREATED:20150511T131154
LAST-MODIFIED:20150525T212558
UID:776-1433556000-1433610000@http://rightresponse.ie
SUMMARY:Heartsaver CPR Dublin 06/06
DESCRIPTION:Irish Heart Foundation certified course in CPR and AED use. €70 – certificate valid for 2 years
URL:http://rightresponse.ie/course-list/heartsaver-cpr-dublin-0606/
LOCATION:Bushfield Drive, Dublin 22, Dublin, 000000, Ireland
CATEGORIES:Dublin,Hearsaver CPR/AED
END:VEVENT
BEGIN:VEVENT
DTSTART;VALUE=DATE-TIME:20150606T093000
DTEND;VALUE=DATE-TIME:20150606T163000
DTSTAMP:20171030T072020
CREATED:20150511T131517
LAST-MODIFIED:20150525T213054
UID:778-1433583000-1433608200@http://rightresponse.ie
SUMMARY:1 Day Occupational First Aid Refresher Dublin 06/06
DESCRIPTION:1 Day course required to maintain the validity of your Occupational First Aid certificate. €90 – certificates valid for 2 years.
URL:http://rightresponse.ie/course-list/1-day-occupational-first-aid-refresher-dublin-0606/
LOCATION:Bushfield Drive, Dublin 22, Dublin, 000000, Ireland
END:VEVENT
BEGIN:VEVENT
DTSTART;VALUE=DATE-TIME:20150606T093000
DTEND;VALUE=DATE-TIME:20150606T163000
DTSTAMP:20171030T072020
CREATED:20150511T131734
LAST-MODIFIED:20150525T213029
UID:780-1433583000-1433608200@http://rightresponse.ie
SUMMARY:Paediatric and Basic First Aid Dublin 06/06
DESCRIPTION:1 Day Paediatric First Aid &amp; Basic First Aid courses. Suitable for all types of work involving the care of children – Teacher/Childminder/Creche Worker/Montessori €90 Certificates valid for 2 years
URL:http://rightresponse.ie/course-list/paediatric-and-basic-first-aid-dublin-0606/
LOCATION:Bushfield Drive, Dublin 22, Dublin, 000000, Ireland
CATEGORIES:1 Day Family First Aid
END:VEVENT
END:VCALENDAR