BEGIN:VCALENDAR
VERSION:2.0
PRODID:-//Right Response - ECPv3.9.1//NONSGML v1.0//EN
CALSCALE:GREGORIAN
METHOD:PUBLISH
X-WR-CALNAME:Right Response
X-ORIGINAL-URL:http://rightresponse.ie
X-WR-CALDESC:Events for Right Response
BEGIN:VEVENT
DTSTART;VALUE=DATE-TIME:20150619T093000
DTEND;VALUE=DATE-TIME:20150619T123000
DTSTAMP:20171030T072052
CREATED:20150610T124746
LAST-MODIFIED:20150610T124852
UID:831-1434706200-1434717000@http://rightresponse.ie
SUMMARY:Manual Handling Cork 19/06
DESCRIPTION:3hr Manual Handling course suitable for all industries except healthcare.  Certificates valid for 3 years.
URL:http://rightresponse.ie/course-list/manual-handling-cork-1906/
LOCATION:Ditchley House, Little Island, Cork, Ireland
END:VEVENT
END:VCALENDAR