BEGIN:VCALENDAR
VERSION:2.0
PRODID:-//Right Response - ECPv3.9.1//NONSGML v1.0//EN
CALSCALE:GREGORIAN
METHOD:PUBLISH
X-WR-CALNAME:Right Response
X-ORIGINAL-URL:http://rightresponse.ie
X-WR-CALDESC:Events for Right Response
BEGIN:VEVENT
DTSTART;VALUE=DATE-TIME:20150725T093000
DTEND;VALUE=DATE-TIME:20150725T163000
DTSTAMP:20171030T071543
CREATED:20150622T122232
LAST-MODIFIED:20150721T142243
UID:841-1437816600-1437841800@http://rightresponse.ie
SUMMARY:Paediatric and Basic First Aid Cork 25/07
DESCRIPTION:1 Day Paediatric First Aid &amp; Basic First Aid courses. Suitable for all types of work including that involving the care of children – Teacher/Childminder/Creche Worker/Montessori €90 Certificates valid for 2 years
URL:http://rightresponse.ie/course-list/paediatric-and-basic-first-aid-cork-2507/
LOCATION:Ditchley House, Little Island, Cork, Ireland
END:VEVENT
BEGIN:VEVENT
DTSTART;VALUE=DATE-TIME:20150725T093000
DTEND;VALUE=DATE-TIME:20150725T170000
DTSTAMP:20171030T071543
CREATED:20150622T122345
LAST-MODIFIED:20150721T142341
UID:842-1437816600-1437843600@http://rightresponse.ie
SUMMARY:1 Day Occupational First Aid Refresher Cork 25/07
DESCRIPTION:1 Day course required to maintain the validity of your Occupational First Aid certificate. €90 – certificates valid for 2 years.
URL:http://rightresponse.ie/course-list/1-day-occupational-first-aid-refresher-cork-2507/
LOCATION:Ditchley House, Little Island, Cork, Ireland
END:VEVENT
BEGIN:VEVENT
DTSTART;VALUE=DATE-TIME:20150725T110000
DTEND;VALUE=DATE-TIME:20150725T131500
DTSTAMP:20171030T071543
CREATED:20150622T122114
LAST-MODIFIED:20150721T142525
UID:840-1437822000-1437830100@http://rightresponse.ie
SUMMARY:Heartsaver CPR Cork 25/07
DESCRIPTION:Irish Heart Foundation certified course in CPR and AED use. €70 – certificate valid for 2 years
URL:http://rightresponse.ie/course-list/heartsaver-cpr-cork-2507/
LOCATION:Ditchley House, Little Island, Cork, Ireland
END:VEVENT
END:VCALENDAR