BEGIN:VCALENDAR
VERSION:2.0
PRODID:-//Right Response - ECPv3.9.1//NONSGML v1.0//EN
CALSCALE:GREGORIAN
METHOD:PUBLISH
X-WR-CALNAME:Right Response
X-ORIGINAL-URL:http://rightresponse.ie
X-WR-CALDESC:Events for Right Response
BEGIN:VEVENT
DTSTART;VALUE=DATE-TIME:20150828T093000
DTEND;VALUE=DATE-TIME:20150828T123000
DTSTAMP:20171030T071025
CREATED:20150821T082525
LAST-MODIFIED:20150821T082525
UID:910-1440754200-1440765000@http://rightresponse.ie
SUMMARY:Manual Handling Cork 28/08
DESCRIPTION:3hr Manual Handling course suitable for all industries except healthcare.  Certificates valid for 3 years.
URL:http://rightresponse.ie/course-list/manual-handling-cork-2808/
LOCATION:Ditchley House, Little Island, Cork, Ireland
END:VEVENT
END:VCALENDAR