BEGIN:VCALENDAR
VERSION:2.0
PRODID:-//Right Response - ECPv3.9.1//NONSGML v1.0//EN
CALSCALE:GREGORIAN
METHOD:PUBLISH
X-WR-CALNAME:Right Response
X-ORIGINAL-URL:http://rightresponse.ie
X-WR-CALDESC:Events for Right Response
BEGIN:VEVENT
DTSTART;VALUE=DATE-TIME:20160227T093000
DTEND;VALUE=DATE-TIME:20160227T163000
DTSTAMP:20171030T074305
CREATED:20160105T114759
LAST-MODIFIED:20160119T152652
UID:1030-1456565400-1456590600@http://rightresponse.ie
SUMMARY:Paediatric and Basic First Aid Dublin 27/02
DESCRIPTION:1 Day Paediatric First Aid &amp; Basic First Aid courses. Suitable for all types of work involving the care of children – Teacher/Childminder/Creche Worker/Montessori €90 Certificates valid for 2 years
URL:http://rightresponse.ie/course-list/paediatric-and-basic-first-aid-dublin-2702/
LOCATION:Louis Fitzgerald, Naas Rd, Dublin 22, Ireland
CATEGORIES:1 Day Family First Aid
END:VEVENT
END:VCALENDAR